BEGIN:VCALENDAR
VERSION:2.0
PRODID:ics
BEGIN:VEVENT
UID:69e5a02022e2e
DTSTART;TZID=Asia/Bangkok:20260519T165600
SEQUENCE:0
TRANSP:OPAQUE
DTEND;TZID=Asia/Bangkok:20260519T165600
SUMMARY:Analyst Meeting for 1Q 2026 Financial Performance
CLASS:PUBLIC
DESCRIPTION:14.00 – 15.00 น.
X-ALT-DESC;FMTTYPE=text/html:14.00 &ndash\; 15.00 น.
DTSTAMP:20260420T034016Z
END:VEVENT
END:VCALENDAR