BEGIN:VCALENDAR
VERSION:2.0
PRODID:ics
BEGIN:VEVENT
UID:69e59f29b657c
DTSTART;TZID=Asia/Bangkok:20260519T165500
SEQUENCE:0
TRANSP:OPAQUE
DTEND;TZID=Asia/Bangkok:20260519T165500
SUMMARY:Earning Call for 1Q 2026 Financial Performance (SET Opportunity Day
 )
CLASS:PUBLIC
DESCRIPTION:11.15 – 12.00 น.
X-ALT-DESC;FMTTYPE=text/html:11.15 &ndash\; 12.00 น.
DTSTAMP:20260420T033609Z
END:VEVENT
END:VCALENDAR